BEGIN:VCALENDAR
VERSION:2.0
PRODID:-//North American Limousin Foundation - ECPv6.15.20//NONSGML v1.0//EN
CALSCALE:GREGORIAN
METHOD:PUBLISH
X-WR-CALNAME:North American Limousin Foundation
X-ORIGINAL-URL:https://nalf.org
X-WR-CALDESC:Events for North American Limousin Foundation
REFRESH-INTERVAL;VALUE=DURATION:PT1H
X-Robots-Tag:noindex
X-PUBLISHED-TTL:PT1H
BEGIN:VTIMEZONE
TZID:America/Denver
BEGIN:DAYLIGHT
TZOFFSETFROM:-0700
TZOFFSETTO:-0600
TZNAME:MDT
DTSTART:20250309T090000
END:DAYLIGHT
BEGIN:STANDARD
TZOFFSETFROM:-0600
TZOFFSETTO:-0700
TZNAME:MST
DTSTART:20251102T080000
END:STANDARD
BEGIN:DAYLIGHT
TZOFFSETFROM:-0700
TZOFFSETTO:-0600
TZNAME:MDT
DTSTART:20260308T090000
END:DAYLIGHT
BEGIN:STANDARD
TZOFFSETFROM:-0600
TZOFFSETTO:-0700
TZNAME:MST
DTSTART:20261101T080000
END:STANDARD
BEGIN:DAYLIGHT
TZOFFSETFROM:-0700
TZOFFSETTO:-0600
TZNAME:MDT
DTSTART:20270314T090000
END:DAYLIGHT
BEGIN:STANDARD
TZOFFSETFROM:-0600
TZOFFSETTO:-0700
TZNAME:MST
DTSTART:20271107T080000
END:STANDARD
END:VTIMEZONE
BEGIN:VEVENT
DTSTART;VALUE=DATE:20260330
DTEND;VALUE=DATE:20260331
DTSTAMP:20260424T140434
CREATED:20260121T212237Z
LAST-MODIFIED:20260122T201631Z
UID:10000016-1774828800-1774915199@nalf.org
SUMMARY:Linhart Limousin - April Fool’s Online Genetic Sale
DESCRIPTION:https://linhartlimousin.com/
URL:https://nalf.org/event/linhart-limousin-april-fools-online-genetic-sale/
LOCATION:MO
CATEGORIES:Online Sales
END:VEVENT
BEGIN:VEVENT
DTSTART;VALUE=DATE:20260325
DTEND;VALUE=DATE:20260326
DTSTAMP:20260424T140434
CREATED:20260121T212237Z
LAST-MODIFIED:20260122T201726Z
UID:10000017-1774396800-1774483199@nalf.org
SUMMARY:BCV Farms - Inaugural Bull Sale
DESCRIPTION:
URL:https://nalf.org/event/bcv-farms-inaugural-bull-sale/
LOCATION:MO
CATEGORIES:Online Sales
END:VEVENT
BEGIN:VEVENT
DTSTART;VALUE=DATE:20260324
DTEND;VALUE=DATE:20260325
DTSTAMP:20260424T140434
CREATED:20260220T152750Z
LAST-MODIFIED:20260220T152853Z
UID:10000037-1774310400-1774396799@nalf.org
SUMMARY:Schott Limousin “Cutting Edge” Bull & Female Sale
DESCRIPTION:www.schottranch.com \n 
URL:https://nalf.org/event/schott-limousin-cutting-edge-bull-female-sale/
LOCATION:Mobridge\, SD\, Mobridge\, SD
CATEGORIES:In-Person Sales
END:VEVENT
BEGIN:VEVENT
DTSTART;VALUE=DATE:20260324
DTEND;VALUE=DATE:20260325
DTSTAMP:20260424T140434
CREATED:20260121T212237Z
LAST-MODIFIED:20260122T201930Z
UID:10000018-1774310400-1774396799@nalf.org
SUMMARY:Middleton Limousin - Online Sale
DESCRIPTION:https://middletonlimousin.com/
URL:https://nalf.org/event/middleton-limousin-online-sale/
LOCATION:MO
CATEGORIES:Online Sales
END:VEVENT
BEGIN:VEVENT
DTSTART;VALUE=DATE:20260321
DTEND;VALUE=DATE:20260322
DTSTAMP:20260424T140434
CREATED:20260121T212237Z
LAST-MODIFIED:20260122T202811Z
UID:10000019-1774051200-1774137599@nalf.org
SUMMARY:Ochsner Limousin - Annual Bull Sale
DESCRIPTION:https://www.ochsnercattle.com/
URL:https://nalf.org/event/ochsner-limousin-annual-bull-sale/
LOCATION:Kersey\, CO\, Kersey\, CO\, United States
CATEGORIES:In-Person Sales
END:VEVENT
BEGIN:VEVENT
DTSTART;VALUE=DATE:20260320
DTEND;VALUE=DATE:20260321
DTSTAMP:20260424T140434
CREATED:20260121T212237Z
LAST-MODIFIED:20260122T203016Z
UID:10000020-1773964800-1774051199@nalf.org
SUMMARY:Reynolds Land & Cattle - Bull Sale
DESCRIPTION:
URL:https://nalf.org/event/reynolds-land-cattle-bull-sale/
LOCATION:Sanford\, CO\, Sanford\, CO\, United States
CATEGORIES:In-Person Sales
END:VEVENT
BEGIN:VEVENT
DTSTART;VALUE=DATE:20260314
DTEND;VALUE=DATE:20260315
DTSTAMP:20260424T140434
CREATED:20260121T212237Z
LAST-MODIFIED:20260122T203554Z
UID:10000021-1773446400-1773532799@nalf.org
SUMMARY:Coyote Hills Ranch & Friends - Annual Bull Sale
DESCRIPTION:https://www.coyotehillsok.com/
URL:https://nalf.org/event/coyote-hills-ranch-friends-annual-bull-sale/
LOCATION:Chattanooga\, OK\, Chattanooga\, OK\, United States
CATEGORIES:In-Person Sales
END:VEVENT
BEGIN:VEVENT
DTSTART;TZID=America/Denver:20260310T080000
DTEND;TZID=America/Denver:20260310T170000
DTSTAMP:20260424T140434
CREATED:20260213T043829Z
LAST-MODIFIED:20260213T043838Z
UID:10000033-1773129600-1773162000@nalf.org
SUMMARY:Friend Brothers Limousin/Rolling Acres Farm
DESCRIPTION:
URL:https://nalf.org/event/friend-brothers-limousin-rolling-acres-farm/
LOCATION:MO
CATEGORIES:In-Person Sales
END:VEVENT
BEGIN:VEVENT
DTSTART;VALUE=DATE:20260308
DTEND;VALUE=DATE:20260309
DTSTAMP:20260424T140434
CREATED:20260121T212237Z
LAST-MODIFIED:20260122T201232Z
UID:10000012-1772928000-1773014399@nalf.org
SUMMARY:Boyer Family Limousin - Annual Production Sale
DESCRIPTION:
URL:https://nalf.org/event/boyer-family-limousin-annual-production-sale/
LOCATION:Liberty\, NE\, Liberty\, NE\, United States
CATEGORIES:In-Person Sales
END:VEVENT
BEGIN:VEVENT
DTSTART;VALUE=DATE:20260307
DTEND;VALUE=DATE:20260308
DTSTAMP:20260424T140434
CREATED:20260121T212237Z
LAST-MODIFIED:20260122T201329Z
UID:10000013-1772841600-1772927999@nalf.org
SUMMARY:Linhart Limousin - Business Done Right Bull Sale
DESCRIPTION:https://linhartlimousin.com/
URL:https://nalf.org/event/linhart-limousin-business-done-right-bull-sale/
LOCATION:Leon\, IA\, Leon\, IA\, United States
CATEGORIES:In-Person Sales
END:VEVENT
BEGIN:VEVENT
DTSTART;VALUE=DATE:20260304
DTEND;VALUE=DATE:20260305
DTSTAMP:20260424T140434
CREATED:20260121T212237Z
LAST-MODIFIED:20260122T201414Z
UID:10000014-1772582400-1772668799@nalf.org
SUMMARY:Beckman Livestock - Annual Bull Sale
DESCRIPTION:https://www.beckmanlivestockllc.com/
URL:https://nalf.org/event/beckman-livestock-annual-bull-sale/
LOCATION:Idaho Falls\, ID\, Idaho Falls\, ID\, United States
CATEGORIES:In-Person Sales
END:VEVENT
BEGIN:VEVENT
DTSTART;VALUE=DATE:20260302
DTEND;VALUE=DATE:20260303
DTSTAMP:20260424T140434
CREATED:20260121T212237Z
LAST-MODIFIED:20260122T203620Z
UID:10000022-1772409600-1772495999@nalf.org
SUMMARY:Buck Ridge Cattle Co - Inaugural Sale
DESCRIPTION:https://buckridgecattle.com/
URL:https://nalf.org/event/buck-ridge-cattle-co-inaugural-sale/
LOCATION:Seymour\, MO\, Seymour\, MO\, United States
CATEGORIES:In-Person Sales
END:VEVENT
BEGIN:VEVENT
DTSTART;VALUE=DATE:20260228
DTEND;VALUE=DATE:20260301
DTSTAMP:20260424T140434
CREATED:20260121T212237Z
LAST-MODIFIED:20260122T204704Z
UID:10000024-1772236800-1772323199@nalf.org
SUMMARY:Lonely Valley Limousin - Keepin’ Kind Bull Sale
DESCRIPTION:
URL:https://nalf.org/event/lonely-valley-limousin-keepin-kind-bull-sale/
LOCATION:Creston\, NE\, Creston\, NE\, United States
CATEGORIES:In-Person Sales
END:VEVENT
BEGIN:VEVENT
DTSTART;VALUE=DATE:20260227
DTEND;VALUE=DATE:20260228
DTSTAMP:20260424T140434
CREATED:20260121T212237Z
LAST-MODIFIED:20260122T204741Z
UID:10000025-1772150400-1772236799@nalf.org
SUMMARY:Wieczorek Limousin - Annual Bull Sale
DESCRIPTION:https://wieczoreklimousin.com/
URL:https://nalf.org/event/wieczorek-limousin-annual-bull-sale/
LOCATION:Mount Vernon\, SD
CATEGORIES:In-Person Sales
END:VEVENT
BEGIN:VEVENT
DTSTART;VALUE=DATE:20260226
DTEND;VALUE=DATE:20260227
DTSTAMP:20260424T140434
CREATED:20260121T212237Z
LAST-MODIFIED:20260122T204819Z
UID:10000026-1772064000-1772150399@nalf.org
SUMMARY:Symens Brothers Limousin - Annual Production Sale
DESCRIPTION:
URL:https://nalf.org/event/symens-brothers-limousin-annual-production-sale/
LOCATION:Amhurst\, SD\, Amhurst\, SD\, United States
CATEGORIES:In-Person Sales
END:VEVENT
BEGIN:VEVENT
DTSTART;VALUE=DATE:20260224
DTEND;VALUE=DATE:20260225
DTSTAMP:20260424T140434
CREATED:20260121T212237Z
LAST-MODIFIED:20260122T204905Z
UID:10000027-1771891200-1771977599@nalf.org
SUMMARY:ROMN Limousin - Online Bull Sale
DESCRIPTION:
URL:https://nalf.org/event/romn-limousin-online-bull-sale/
LOCATION:MO
CATEGORIES:Online Sales
END:VEVENT
BEGIN:VEVENT
DTSTART;VALUE=DATE:20260223
DTEND;VALUE=DATE:20260224
DTSTAMP:20260424T140434
CREATED:20260121T212237Z
LAST-MODIFIED:20260122T205202Z
UID:10000028-1771804800-1771891199@nalf.org
SUMMARY:JYF Farms - Annual Production Sale
DESCRIPTION:
URL:https://nalf.org/event/jyf-farms-annual-production-sale/
LOCATION:Flintoft\, SK\, Flintoft\, Saskatchewan\, Canada
CATEGORIES:In-Person Sales
END:VEVENT
BEGIN:VEVENT
DTSTART;TZID=America/Denver:20260221T080000
DTEND;TZID=America/Denver:20260221T170000
DTSTAMP:20260424T140434
CREATED:20260213T043749Z
LAST-MODIFIED:20260213T043749Z
UID:10000032-1771660800-1771693200@nalf.org
SUMMARY:GV Limousin
DESCRIPTION:
URL:https://nalf.org/event/gv-limousin/
LOCATION:MO
CATEGORIES:In-Person Sales
END:VEVENT
BEGIN:VEVENT
DTSTART;VALUE=DATE:20260216
DTEND;VALUE=DATE:20260301
DTSTAMP:20260424T140434
CREATED:20260220T152437Z
LAST-MODIFIED:20260220T152437Z
UID:10000036-1771200000-1772323199@nalf.org
SUMMARY:“The National” Syndication Sale
DESCRIPTION:L365 Auctions
URL:https://nalf.org/event/the-national-syndication-sale/
LOCATION:MO
CATEGORIES:Online Sales
END:VEVENT
BEGIN:VEVENT
DTSTART;VALUE=DATE:20260215
DTEND;VALUE=DATE:20260216
DTSTAMP:20260424T140434
CREATED:20260121T212237Z
LAST-MODIFIED:20260122T205311Z
UID:10000029-1771113600-1771199999@nalf.org
SUMMARY:Spring Creeks Cattle Company - Annual Bull Sale
DESCRIPTION:https://www.springcreekscattle.com/
URL:https://nalf.org/event/spring-creeks-cattle-company-annual-bull-sale/
LOCATION:Fennimore\, WI\, Fennimore\, WI\, United States
CATEGORIES:In-Person Sales
END:VEVENT
BEGIN:VEVENT
DTSTART;VALUE=DATE:20260214
DTEND;VALUE=DATE:20260215
DTSTAMP:20260424T140434
CREATED:20260121T212237Z
LAST-MODIFIED:20260122T205400Z
UID:10000030-1771027200-1771113599@nalf.org
SUMMARY:Treftz Limousin - “Where Muscle Still Matters” Annual Bull Sale
DESCRIPTION:https://treftzlimousin.com/
URL:https://nalf.org/event/treftz-limousin-where-muscle-still-matters-annual-bull-sale/
LOCATION:Wetonka\, SD\, Wetonka\, SD\, United States
CATEGORIES:In-Person Sales
END:VEVENT
BEGIN:VEVENT
DTSTART;VALUE=DATE:20260206
DTEND;VALUE=DATE:20260207
DTSTAMP:20260424T140434
CREATED:20260121T212237Z
LAST-MODIFIED:20260122T205734Z
UID:10000023-1770336000-1770422399@nalf.org
SUMMARY:Rafter DP Farm & Ranch - Annual Bull Sale
DESCRIPTION:https://www.rafterdpfarmandranch.com/
URL:https://nalf.org/event/rafter-dp-farm-ranch-annual-bull-sale/
LOCATION:Geary\, OK\, Geary\, OK\, United States
CATEGORIES:In-Person Sales
END:VEVENT
BEGIN:VEVENT
DTSTART;VALUE=DATE:20260131
DTEND;VALUE=DATE:20260201
DTSTAMP:20260424T140434
CREATED:20260121T212237Z
LAST-MODIFIED:20260122T205453Z
UID:10000031-1769817600-1769903999@nalf.org
SUMMARY:ATAK Limousin - New Year’s Resolution Sale
DESCRIPTION:
URL:https://nalf.org/event/atak-limousin-new-years-resolution-sale/
LOCATION:Avon\, IL\, Avon\, IL\, United States
CATEGORIES:In-Person Sales
END:VEVENT
BEGIN:VEVENT
DTSTART;VALUE=DATE:20260131
DTEND;VALUE=DATE:20260201
DTSTAMP:20260424T140434
CREATED:20260121T211648Z
LAST-MODIFIED:20260121T211941Z
UID:10000005-1769817600-1769903999@nalf.org
SUMMARY:FWSS Level I MOE Limousin Show
DESCRIPTION:https://www.fwssr.com/
URL:https://nalf.org/event/fwss-level-i-moe-limousin-show/
LOCATION:Fort Worth\, TX\, Fort Worth\, TX\, United States
CATEGORIES:NALF Events
END:VEVENT
BEGIN:VEVENT
DTSTART;TZID=America/Denver:20260126T133000
DTEND;TZID=America/Denver:20260126T133000
DTSTAMP:20260424T140434
CREATED:20260120T202503Z
LAST-MODIFIED:20260122T204526Z
UID:10000004-1769434200-1769434200@nalf.org
SUMMARY:Bullis Creek Ranch – Generations of Predictability Production Sale
DESCRIPTION:https://bulliscreek.com/
URL:https://nalf.org/event/bullis-creek-ranch-generations-of-predictability-production-sale/
LOCATION:Bullis Creek Ranch\, Wood Lake\, NE\, United States
CATEGORIES:In-Person Sales
END:VEVENT
END:VCALENDAR